Workbook
Name AB: [1]Validaciones!$BA$2:$BA$5
Name Acceso_Fijo_Inalámbrico__FWA: _xlfn.ANCHORARRAY(DatosOrigen!$M$2)
Name Acceso_Satelital: _xlfn.ANCHORARRAY(DatosOrigen!$N$2)
Name AMAZONAS: _xlfn.ANCHORARRAY(DatosOrigen!$AY$2)
Name ANTIOQUIA: _xlfn.ANCHORARRAY(DatosOrigen!$W$2)
Name ARAUCA: _xlfn.ANCHORARRAY(DatosOrigen!$AU$2)
Name ARCHIPIÉLAGO_DE_SAN_ANDRÉS_PROVIDENCIA_Y_SANTA_CATALINA: _xlfn.ANCHORARRAY(DatosOrigen!$AX$2)
Name ATLÁNTICO: _xlfn.ANCHORARRAY(DatosOrigen!$X$2)
Name BOGOTÁ_D.C.: _xlfn.ANCHORARRAY(DatosOrigen!$Y$2)
Name BOLÍVAR: _xlfn.ANCHORARRAY(DatosOrigen!$Z$2)
Name BOYACÁ: _xlfn.ANCHORARRAY(DatosOrigen!$AA$2)
Name CALDAS: _xlfn.ANCHORARRAY(DatosOrigen!$AB$2)
Name CAQUETÁ: _xlfn.ANCHORARRAY(DatosOrigen!$AC$2)
Name CASANARE: _xlfn.ANCHORARRAY(DatosOrigen!$AV$2)
Name Categorias_Principales: _xlfn.ANCHORARRAY(DatosOrigen!$E$2)
Name CAUCA: _xlfn.ANCHORARRAY(DatosOrigen!$AD$2)
Name CESAR: _xlfn.ANCHORARRAY(DatosOrigen!$AE$2)
Name CHOCÓ: _xlfn.ANCHORARRAY(DatosOrigen!$AH$2)
Name CLASE: [1]Validaciones!$K$4:$K$7
Name CÓRDOBA: _xlfn.ANCHORARRAY(DatosOrigen!$AF$2)
Name CUNDINAMARCA: _xlfn.ANCHORARRAY(DatosOrigen!$AG$2)
Name Departamento: '[1]DANE-Municipios'!$G$15:$G$47
Name Fibra_Coaxial: _xlfn.ANCHORARRAY(DatosOrigen!$L$2)
Name Fre_Aero: [1]Validaciones!$N$4:$N$5
Name FTTx__Fiber_to_the_X: _xlfn.ANCHORARRAY(DatosOrigen!$J$2)
Name GUAINÍA: _xlfn.ANCHORARRAY(DatosOrigen!$AZ$2)
Name GUAVIARE: _xlfn.ANCHORARRAY(DatosOrigen!$BA$2)
Name HUILA: _xlfn.ANCHORARRAY(DatosOrigen!$AI$2)
Name Ingeniero: [1]Validaciones!$O$4:$O$7
Name LA_GUAJIRA: _xlfn.ANCHORARRAY(DatosOrigen!$AJ$2)
Name Linea_de_Abonado_Digital: _xlfn.ANCHORARRAY(DatosOrigen!$P$2)
Name Lista_Deparamentos: _xlfn.ANCHORARRAY(DatosOrigen!$V$2)
Name MAGDALENA: _xlfn.ANCHORARRAY(DatosOrigen!$AK$2)
Name META: _xlfn.ANCHORARRAY(DatosOrigen!$AL$2)
Name NARIÑO: _xlfn.ANCHORARRAY(DatosOrigen!$AM$2)
Name NORTE_DE_SANTANDER: _xlfn.ANCHORARRAY(DatosOrigen!$AN$2)
Name NS: [1]Validaciones!$L$4:$L$5
Name Nsel: [1]Validaciones!$BB$2:$BB$3
Name Num_Bah: [1]Validaciones!$BH$2:$BH$9
Name Polarizacion: [1]Validaciones!$S$4:$S$8
Name PUTUMAYO: _xlfn.ANCHORARRAY(DatosOrigen!$AW$2)
Name QUINDÍO: _xlfn.ANCHORARRAY(DatosOrigen!$AO$2)
Name Red_Local_Inalambrica: _xlfn.ANCHORARRAY(DatosOrigen!$O$2)
Name Redes_de_Cobre: _xlfn.ANCHORARRAY(DatosOrigen!$I$2)
Name Redes_de_Fibra_Óptica: _xlfn.ANCHORARRAY(DatosOrigen!$F$2)
Name Redes_Híbridas: _xlfn.ANCHORARRAY(DatosOrigen!$G$2)
Name Redes_Inalámbricas: _xlfn.ANCHORARRAY(DatosOrigen!$H$2)
Name RISARALDA: _xlfn.ANCHORARRAY(DatosOrigen!$AP$2)
Name SANTANDER: _xlfn.ANCHORARRAY(DatosOrigen!$AQ$2)
Name SINO: [1]Validaciones!$I$4:$I$5
Name SINONA: [1]Validaciones!$J$4:$J$6
Name SUCRE: _xlfn.ANCHORARRAY(DatosOrigen!$AR$2)
Name Tecnologías_de_Transporte: _xlfn.ANCHORARRAY(DatosOrigen!$K$2)
Name Tilt: [1]Validaciones!$BJ$2:$BJ$4
Name TOLIMA: _xlfn.ANCHORARRAY(DatosOrigen!$AS$2)
Name Torre: [1]Validaciones!$P$4:$P$7
Name Tramite: [1]Validaciones!$H$4:$H$5
Name VALLE_DEL_CAUCA: _xlfn.ANCHORARRAY(DatosOrigen!$AT$2)
Name VAUPÉS: _xlfn.ANCHORARRAY(DatosOrigen!$BB$2)
Name VICHADA: _xlfn.ANCHORARRAY(DatosOrigen!$BC$2)

Sheet INSTRUCTIVO
A1: Registre el contenido de este formato en MAYUSCULA SOSTENIDO.
A2: Datos ISP
A3: En esta pestaña, se registran los datos básicos correspondientes al ISP
A5: CRONOGRAMA DE EJECUCIÓN
A6: En esta pestaña, el ISP debe registrar en la columna A cada una de las actividades o hitos que considere determinantes para la ejecución del plan de inversión y actualización tecnológica.
A7: Según el año y trimestre en el que se tenga previsto ejecutar cada una de las actividades o hitos registrados, se deberá marcar en color amarillo las celdas correspondientes a los trimestres en los que se llevará a cabo dicha ejecución.
A9: TECNOLOGÍA y VELOCIDAD
A10: Para esta pestaña, el ISP deberá identificar el territorio en el que se implementará el Plan de Inversiones y Actualización Tecnológica, especificando de manera individual cada una de las ubicaciones incluidas en dicho plan (Municipios, barrios, veredas, corregimientos, etc)
A11: Deberá seleccionar el departamento en la lista desplegable de la Columna A, el Código "COD-DEPT" en la columna B se agregará automaticamente. Favor no modificar esta columna a menos que el Departamento no se encuentre en la lista.
A12: Dependiendo del departamento seleccionado, deberá seleccionar en la lista desplegable de la Columna C el municipio, el "COD-MUN" correspondiente en la columna D se agregará automaticamente. Favor no modificar esta columna a menos que el municipio no se encuentre en la lista.
A13: En caso de que sea necesario referir una ubicación más especifica como barrio, vereda, finca, corregimiento, etc, lo podrá indicar en la columna E "DETALLE (si aplica)" y registrar el Codigo respectivo en caso de conocerlo en la columna F. En caso de que no aplique dejar en blanco
A14: En la columna G, deberá elegir en la lista desplegable si la ubicación seleccionada es RURAL o URBANA o las dos.
... A32: En la Columna C, D y E, deberá registrar la cantidad , unidad de medida cuando corresponda y el valor en pesos colombianos COP que será objeto de inversión.

Sheet DATOS ISP
A7: DATOS PROVEEDOR SERVICIOS DE INTERNET - ISP -
A11: IDENTIFICACIÓN DEL ISP
A13: Nombre ISP | E13: Nombres y Apellidos del Representante Legal
A15: Razón social | G15: NIT o C.C
A17: Departamento actividad | D17: Municipio actividad
A19: E-mail | G19: Dirección
A21: Celular del representante legal o número de contacto | E21: Nombres y Apellidos Apoderado (Cuando aplique)
E23: C.C Apoderado

Sheet CRONOGRAMA DE EJECUCIÓN
A1: ACTIVIDADES / HITOS | B1: AÑO 1 | F1: AÑO 2 | J1: AÑO 3 | N1: AÑO 4 | R1: AÑO 5
B2: 1T-A1 | C2: 2T-A1 | D2: 3T-A1 | E2: 4T-A1 | F2: 1T-A2 | G2: 2T-A2 | H2: 3T-A2 | I2: 4T-A2 | J2: 1T-A3 | K2: 2T-A3 | L2: 3T-A3 | M2: 4T-A3 | N2: 1T-A4 | O2: 2T-A4 | P2: 3T-A4 | Q2: 4T-A4 | R2: 1T-A5 | S2: 2T-A5 | T2: 3T-A5 | U2: 4T-A5

Sheet TECNOLOGÍA y VELOCIDAD
A1: DEPARTAMENTO | B1: COD-DEPT | C1: MUNICIPIO | D1: COD-MUN | E1: DETALLE (si aplica) | F1: COD (si aplica) | G1: ZONA | H1: Categoría Principal TECNOLOGÍA | I1: Subcategoría | J1: Tecnología Específica | K1: Longitud / Cobertura (Si aplica) | L1: Velocidad Simetrica | M1: Velocidad Mínima en MBPS (US) | N1: Velocidad Máxima en MBPS (US) | O1: Velocidad Mínima en MBPS (DS) | P1: Velocidad Máxima en MBPS (DS)
B2: =IFERROR(VLOOKUP(A2,DatosOrigen!$R$2:$S$1123,2,FALSE),"") | D2: {=IF(C2="", "", _xlfn.XLOOKUP(A2&C2, DatosOrigen!R:R & DatosOrigen!T:T, DatosOrigen!U:U, "No Encontrado"))} | H2: Redes de Fibra Óptica | I2: FTTx (Fiber to the X)
B3: =IFERROR(VLOOKUP(A3,DatosOrigen!$R$2:$S$1123,2,FALSE),"") | D3: {=IF(C3="", "", _xlfn.XLOOKUP(A3&C3, DatosOrigen!R:R & DatosOrigen!T:T, DatosOrigen!U:U, "No Encontrado"))}
B4: =IFERROR(VLOOKUP(A4,DatosOrigen!$R$2:$S$1123,2,FALSE),"") | D4: {=IF(C4="", "", _xlfn.XLOOKUP(A4&C4, DatosOrigen!R:R & DatosOrigen!T:T, DatosOrigen!U:U, "No Encontrado"))}
B5: =IFERROR(VLOOKUP(A5,DatosOrigen!$R$2:$S$1123,2,FALSE),"") | D5: {=IF(C5="", "", _xlfn.XLOOKUP(A5&C5, DatosOrigen!R:R & DatosOrigen!T:T, DatosOrigen!U:U, "No Encontrado"))}
B6: =IFERROR(VLOOKUP(A6,DatosOrigen!$R$2:$S$1123,2,FALSE),"") | D6: {=IF(C6="", "", _xlfn.XLOOKUP(A6&C6, DatosOrigen!R:R & DatosOrigen!T:T, DatosOrigen!U:U, "No Encontrado"))}
B7: =IFERROR(VLOOKUP(A7,DatosOrigen!$R$2:$S$1123,2,FALSE),"") | D7: {=IF(C7="", "", _xlfn.XLOOKUP(A7&C7, DatosOrigen!R:R & DatosOrigen!T:T, DatosOrigen!U:U, "No Encontrado"))}
B8: =IFERROR(VLOOKUP(A8,DatosOrigen!$R$2:$S$1123,2,FALSE),"") | D8: {=IF(C8="", "", _xlfn.XLOOKUP(A8&C8, DatosOrigen!R:R & DatosOrigen!T:T, DatosOrigen!U:U, "No Encontrado"))}
B9: =IFERROR(VLOOKUP(A9,DatosOrigen!$R$2:$S$1123,2,FALSE),"") | D9: {=IF(C9="", "", _xlfn.XLOOKUP(A9&C9, DatosOrigen!R:R & DatosOrigen!T:T, DatosOrigen!U:U, "No Encontrado"))}
B10: =IFERROR(VLOOKUP(A10,DatosOrigen!$R$2:$S$1123,2,FALSE),"") | D10: {=IF(C10="", "", _xlfn.XLOOKUP(A10&C10, DatosOrigen!R:R & DatosOrigen!T:T, DatosOrigen!U:U, "No Encontrado"))}
B11: =IFERROR(VLOOKUP(A11,DatosOrigen!$R$2:$S$1123,2,FALSE),"") | D11: {=IF(C11="", "", _xlfn.XLOOKUP(A11&C11, DatosOrigen!R:R & DatosOrigen!T:T, DatosOrigen!U:U, "No Encontrado"))}
B12: =IFERROR(VLOOKUP(A12,DatosOrigen!$R$2:$S$1123,2,FALSE),"") | D12: {=IF(C12="", "", _xlfn.XLOOKUP(A12&C12, DatosOrigen!R:R & DatosOrigen!T:T, DatosOrigen!U:U, "No Encontrado"))}
B13: =IFERROR(VLOOKUP(A13,DatosOrigen!$R$2:$S$1123,2,FALSE),"") | D13: {=IF(C13="", "", _xlfn.XLOOKUP(A13&C13, DatosOrigen!R:R & DatosOrigen!T:T, DatosOrigen!U:U, "No Encontrado"))}
B14: =IFERROR(VLOOKUP(A14,DatosOrigen!$R$2:$S$1123,2,FALSE),"") | D14: {=IF(C14="", "", _xlfn.XLOOKUP(A14&C14, DatosOrigen!R:R & DatosOrigen!T:T, DatosOrigen!U:U, "No Encontrado"))}
... B40: =IFERROR(VLOOKUP(A40,DatosOrigen!$R$2:$S$1123,2,FALSE),"") | D40: {=IF(C40="", "", _xlfn.XLOOKUP(A40&C40, DatosOrigen!R:R & DatosOrigen!T:T, DatosOrigen!U:U, "No Encontrado"))}
E42: ANTIOQUIA-MEDELLIN | H42: Redes de Fibra Óptica | I42: FTTx (Fiber to the X) | J42: FTTH (Fiber to the Home) | L42: SI
E43: ANTIOQUIA-LA ESTRELLA-VEREDA X | J43: FTTB (Fiber to the Building) | L43: NO
E44: CAUCA-POPAYÁN | J44: FTTP (Fiber to the Premises) | L44: N/A
J45: FTTC (Fiber to the Cabinet)
J46: FTTN (Fiber to the Node)
J47: FTTA (Fiber to the Antenna)
I48: Tecnologías de Transporte | J48: GPON / XG-PON
H49: Redes Híbridas | I49: Fibra-Coaxial | J49: HFC (Hybrid Fiber Coaxial)
J50: DOCSIS (3.0, 3.1, 4.0)
H51: Redes Inalámbricas | I51: Acceso Fijo Inalámbrico (FWA) | J51: 5G FWA / 4G LTE
J52: WIMAX
J53: Radioenlace (Microondas)
I54: Acceso Satelital | J54: GEO (Órbita Geoestacionaria)
J55: LEO (Órbita Terrestre Baja)
I56: Red Local Inalámbrica | J56: WiFi (Gestionado)
H57: Redes de Cobre | I57: Línea de Abonado Digital | J57: xDSL

Sheet USUARIOS
A1: DEPARTAMENTO | B1: COD-DEPT | C1: MUNICIPIO | D1: COD-MUN | E1: DETALLE (si aplica) | F1: COD (si aplica) | G1: ZONA | H1: Potencial Usuarios
B2: =IFERROR(VLOOKUP(A2,DatosOrigen!$R$2:$S$1123,2,FALSE),"") | D2: {=IF(C2="", "", _xlfn.XLOOKUP(A2&C2, DatosOrigen!R:R & DatosOrigen!T:T, DatosOrigen!U:U, "No Encontrado"))}
B3: =IFERROR(VLOOKUP(A3,DatosOrigen!$R$2:$S$1123,2,FALSE),"") | D3: {=IF(C3="", "", _xlfn.XLOOKUP(A3&C3, DatosOrigen!R:R & DatosOrigen!T:T, DatosOrigen!U:U, "No Encontrado"))}
B4: =IFERROR(VLOOKUP(A4,DatosOrigen!$R$2:$S$1123,2,FALSE),"") | D4: {=IF(C4="", "", _xlfn.XLOOKUP(A4&C4, DatosOrigen!R:R & DatosOrigen!T:T, DatosOrigen!U:U, "No Encontrado"))}
B5: =IFERROR(VLOOKUP(A5,DatosOrigen!$R$2:$S$1123,2,FALSE),"") | D5: {=IF(C5="", "", _xlfn.XLOOKUP(A5&C5, DatosOrigen!R:R & DatosOrigen!T:T, DatosOrigen!U:U, "No Encontrado"))}
B6: =IFERROR(VLOOKUP(A6,DatosOrigen!$R$2:$S$1123,2,FALSE),"") | D6: {=IF(C6="", "", _xlfn.XLOOKUP(A6&C6, DatosOrigen!R:R & DatosOrigen!T:T, DatosOrigen!U:U, "No Encontrado"))}
B7: =IFERROR(VLOOKUP(A7,DatosOrigen!$R$2:$S$1123,2,FALSE),"") | D7: {=IF(C7="", "", _xlfn.XLOOKUP(A7&C7, DatosOrigen!R:R & DatosOrigen!T:T, DatosOrigen!U:U, "No Encontrado"))}
B8: =IFERROR(VLOOKUP(A8,DatosOrigen!$R$2:$S$1123,2,FALSE),"") | D8: {=IF(C8="", "", _xlfn.XLOOKUP(A8&C8, DatosOrigen!R:R & DatosOrigen!T:T, DatosOrigen!U:U, "No Encontrado"))}
B9: =IFERROR(VLOOKUP(A9,DatosOrigen!$R$2:$S$1123,2,FALSE),"") | D9: {=IF(C9="", "", _xlfn.XLOOKUP(A9&C9, DatosOrigen!R:R & DatosOrigen!T:T, DatosOrigen!U:U, "No Encontrado"))}
B10: =IFERROR(VLOOKUP(A10,DatosOrigen!$R$2:$S$1123,2,FALSE),"") | D10: {=IF(C10="", "", _xlfn.XLOOKUP(A10&C10, DatosOrigen!R:R & DatosOrigen!T:T, DatosOrigen!U:U, "No Encontrado"))}
B11: =IFERROR(VLOOKUP(A11,DatosOrigen!$R$2:$S$1123,2,FALSE),"") | D11: {=IF(C11="", "", _xlfn.XLOOKUP(A11&C11, DatosOrigen!R:R & DatosOrigen!T:T, DatosOrigen!U:U, "No Encontrado"))}
B12: =IFERROR(VLOOKUP(A12,DatosOrigen!$R$2:$S$1123,2,FALSE),"") | D12: {=IF(C12="", "", _xlfn.XLOOKUP(A12&C12, DatosOrigen!R:R & DatosOrigen!T:T, DatosOrigen!U:U, "No Encontrado"))}
B13: =IFERROR(VLOOKUP(A13,DatosOrigen!$R$2:$S$1123,2,FALSE),"") | D13: {=IF(C13="", "", _xlfn.XLOOKUP(A13&C13, DatosOrigen!R:R & DatosOrigen!T:T, DatosOrigen!U:U, "No Encontrado"))}
... B40: =IFERROR(VLOOKUP(A40,DatosOrigen!$R$2:$S$1123,2,FALSE),"") | D40: {=IF(C40="", "", _xlfn.XLOOKUP(A40&C40, DatosOrigen!R:R & DatosOrigen!T:T, DatosOrigen!U:U, "No Encontrado"))}
E42: ANTIOQUIA-MEDELLIN
E43: ANTIOQUIA-LA ESTRELLA-VEREDA X
E44: CAUCA-POPAYÁN

Sheet CRONOGRAMA DE INVERSIONES
A1: ACTIVIDADES / HITOS | B1: AÑO 1 | F1: AÑO 2 | J1: AÑO 3 | N1: AÑO 4 | R1: AÑO 5 | V1: TOTAL
B2: 1T-A1 | C2: 2T-A1 | D2: 3T-A1 | E2: 4T-A1 | F2: 1T-A2 | G2: 2T-A2 | H2: 3T-A2 | I2: 4T-A2 | J2: 1T-A3 | K2: 2T-A3 | L2: 3T-A3 | M2: 4T-A3 | N2: 1T-A4 | O2: 2T-A4 | P2: 3T-A4 | Q2: 4T-A4 | R2: 1T-A5 | S2: 2T-A5 | T2: 3T-A5 | U2: 4T-A5
V3: =SUM(B3:U3) -> 0
V4: =SUM(B4:U4) -> 0
V5: =SUM(B5:U5) -> 0
V6: =SUM(B6:U6) -> 0
V7: =SUM(B7:U7) -> 0
V8: =SUM(B8:U8) -> 0
V9: =SUM(B9:U9) -> 0
V10: =SUM(B10:U10) -> 0
V11: =SUM(B11:U11) -> 0
V12: =SUM(B12:U12) -> 0
V13: =SUM(B13:U13) -> 0
V14: =SUM(B14:U14) -> 0
... V45: =SUM(B45:U45) -> 0
A46: TOTAL | V46: =SUM(V3:V45) -> 0

Sheet DETALLE DE INVERSIONES
A1: TIPO | B1: DETALLE DEL GASTO | C1: CANTIDAD | D1: UNIDAD DE MEDIDA | E1: VALOR
A112: SERVICIO | B112: MATERIAL 1
A113: HARDWARE | B113: MATERIAL 2
A114: SOFTWARE | B114: MATERIAL 3
B115: MATERIAL 4
B116: MATERIAL 5
B117: MATERIAL 6
B118: MATERIAL 7

Sheet DatosOrigen
A1: A (Categoría Principal) | B1: B (Subcategoría) | C1: C (Tecnología Específica) | E1: Lista_Categorias | F1: Redes_de_Fibra_Óptica | G1: Redes_Híbridas | H1: Redes_Inalámbricas | I1: Redes_de_Cobre | J1: FTTx_(Fiber_to_the_X) | K1: Tecnologías_de_Transporte | L1: Fibra_Coaxial | M1: Acceso_Fijo_Inalámbrico_(FWA) | N1: Acceso_Satelital | O1: Red_Local_Inalambrica | P1: Linea_de_Abonado_Digital | R1: Deparamento | S1: DIV | T1: Municipio | U1: DIV | V1: Lista_Deparamentos | W1: ANTIOQUIA | X1: ATLÁNTICO | Y1: BOGOTÁ_D.C. | Z1: BOLÍVAR | AA1: BOYACÁ | AB1: CALDAS | AC1: CAQUETÁ | AD1: CAUCA | AE1: CESAR | AF1: CÓRDOBA | AG1: CUNDINAMARCA | AH1: CHOCÓ | AI1: HUILA | AJ1: LA_GUAJIRA | AK1: MAGDALENA | AL1: META | AM1: NARIÑO | AN1: NORTE_DE_SANTANDER | AO1: QUINDÍO | AP1: RISARALDA | AQ1: SANTANDER | AR1: SUCRE | AS1: TOLIMA | AT1: VALLE_DEL_CAUCA | AU1: ARAUCA | AV1: CASANARE | AW1: PUTUMAYO | AX1: ARCHIPIÉLAGO_DE_SAN_ANDRÉS_PROVIDENCIA_Y_SANTA_CATALINA | AY1: AMAZONAS | AZ1: GUAINÍA | BA1: GUAVIARE | BB1: VAUPÉS | BC1: VICHADA
A2: Redes de Fibra Óptica | B2: FTTx (Fiber to the X) | C2: FTTH (Fiber to the Home) | E2: {=_xlfn.UNIQUE(A2:A17)} -> Redes de Fibra Óptica | F2: {=_xlfn.UNIQUE(DatosOrigen!$B$2:$B$8)} -> FTTx (Fiber to the X) | G2: {=_xlfn.UNIQUE(DatosOrigen!$B$9:$B$10)} -> Fibra_Coaxial | H2: {=_xlfn.UNIQUE(DatosOrigen!$B$11:$B$16)} -> Acceso Fijo Inalámbrico (FWA) | I2: {=_xlfn.UNIQUE(DatosOrigen!$B$17)} -> Linea de Abonado Digital | J2: {=DatosOrigen!$C$2:$C$7} -> FTTH (Fiber to the Home) | K2: {=DatosOrigen!$C$8:$C$8} -> GPON / XG-PON | L2: {=DatosOrigen!$C$9:$C$10} -> HFC (Hybrid Fiber Coaxial) | M2: {=DatosOrigen!$C$11:$C$13} -> 5G FWA / 4G LTE | N2: {=DatosOrigen!$C$14:$C$15} -> GEO (Órbita Geoestacionaria) | O2: {=DatosOrigen!$C$16:$C$16} -> WiFi (Gestionado) | P2: {=DatosOrigen!$C$17:$C$17} -> xDSL | R2: ANTIOQUIA | S2: 05 | T2: MEDELLÍN | U2: 05001 | V2: {=_xlfn.UNIQUE(R2:R1123)} -> ANTIOQUIA | W2: {=_xlfn.UNIQUE(DatosOrigen!$T$2:$T$126)} -> MEDELLÍN | X2: {=_xlfn.UNIQUE(DatosOrigen!$T$127:$T$149)} -> BARRANQUILLA | Y2: {=DatosOrigen!$T$150:$T$150} -> BOGOTÁ D.C. | Z2: {=_xlfn.UNIQUE(DatosOrigen!$T$151:$T$196)} -> CARTAGENA DE INDIAS | AA2: {=_xlfn.UNIQUE(DatosOrigen!$T$197:$T$319)} -> TUNJA | AB2: {=_xlfn.UNIQUE(DatosOrigen!$T$320:$T$346)} -> MANIZALES | AC2: {=_xlfn.UNIQUE(DatosOrigen!$T$347:$T$362)} -> FLORENCIA | AD2: {=_xlfn.UNIQUE(DatosOrigen!$T$363:$T$404)} -> POPAYÁN | AE2: {=_xlfn.UNIQUE(DatosOrigen!$T$405:$T$429)} -> VALLEDUPAR | AF2: {=_xlfn.UNIQUE(DatosOrigen!$T$430:$T$459)} -> MONTERÍA | AG2: {=_xlfn.UNIQUE(DatosOrigen!$T$460:$T$575)} -> AGUA DE DIOS | AH2: {=_xlfn.UNIQUE(DatosOrigen!$T$576:$T$606)} -> QUIBDÓ | AI2: {=_xlfn.UNIQUE(DatosOrigen!$T$607:$T$643)} -> NEIVA | AJ2: {=_xlfn.UNIQUE(DatosOrigen!$T$644:$T$658)} -> RIOHACHA | AK2: {=_xlfn.UNIQUE(DatosOrigen!$T$659:$T$688)} -> SANTA MARTA | AL2: {=_xlfn.UNIQUE(DatosOrigen!$T$689:$T$717)} -> VILLAVICENCIO | AM2: {=_xlfn.UNIQUE(DatosOrigen!$T$718:$T$781)} -> PASTO | AN2: {=_xlfn.UNIQUE(DatosOrigen!$T$782:$T$821)} -> SAN JOSÉ DE CÚCUTA | AO2: {=_xlfn.UNIQUE(DatosOrigen!$T$822:$T$833)} -> ARMENIA | AP2: {=_xlfn.UNIQUE(DatosOrigen!$T$834:$T$847)} -> PEREIRA | AQ2: {=_xlfn.UNIQUE(DatosOrigen!$T$848:$T$934)} -> BUCARAMANGA | AR2: {=_xlfn.UNIQUE(DatosOrigen!$T$935:$T$960)} -> SINCELEJO | AS2: {=_xlfn.UNIQUE(DatosOrigen!$T$961:$T$1007)} -> IBAGUÉ | AT2: {=_xlfn.UNIQUE(DatosOrigen!$T$1008:$T$1049)} -> SANTIAGO DE CALI | AU2: {=_xlfn.UNIQUE(DatosOrigen!$T$1050:$T$1056)} -> ARAUCA | AV2: {=_xlfn.UNIQUE(DatosOrigen!$T$1057:$T$1075)} -> YOPAL | AW2: {=_xlfn.UNIQUE(DatosOrigen!$T$1076:$T$1088)} -> MOCOA | AX2: {=_xlfn.UNIQUE(DatosOrigen!$T$1089:$T$1090)} -> SAN ANDRÉS | AY2: {=_xlfn.UNIQUE(DatosOrigen!$T$1091:$T$1101)} -> LETICIA | AZ2: {=_xlfn.UNIQUE(DatosOrigen!$T$1102:$T$1109)} -> INÍRIDA | BA2: {=_xlfn.UNIQUE(DatosOrigen!$T$1110:$T$1113)} -> SAN JOSÉ DEL GUAVIARE | BB2: {=_xlfn.UNIQUE(DatosOrigen!$T$114:$T$119)} -> TURBO | BC2: {=_xlfn.UNIQUE(DatosOrigen!$T$1120:$T$1123)} -> PUERTO CARREÑO
A3: Redes de Fibra Óptica | B3: FTTx (Fiber to the X) | C3: FTTB (Fiber to the Building) | E3: Redes Híbridas | F3: Tecnologías de Transporte | H3: Acceso Satelital | J3: FTTB (Fiber to the Building) | L3: DOCSIS (3.0, 3.1, 4.0) | M3: WIMAX | N3: LEO (Órbita Terrestre Baja) | R3: ANTIOQUIA | S3: 05 | T3: ABEJORRAL | U3: 05002 | V3: ATLÁNTICO | W3: ABEJORRAL | X3: BARANOA | Z3: ACHÍ | AA3: ALMEIDA | AB3: AGUADAS | AC3: ALBANIA | AD3: ALMAGUER | AE3: AGUACHICA | AF3: AYAPEL | AG3: ALBÁN | AH3: ACANDÍ | AI3: ACEVEDO | AJ3: ALBANIA | AK3: ALGARROBO | AL3: ACACÍAS | AM3: ALBÁN | AN3: ÁBREGO | AO3: BUENAVISTA | AP3: APÍA | AQ3: AGUADA | AR3: BUENAVISTA | AS3: ALPUJARRA | AT3: ALCALÁ | AU3: ARAUQUITA | AV3: AGUAZUL | AW3: COLÓN | AX3: PROVIDENCIA | AY3: EL ENCANTO | AZ3: BARRANCOMINAS | BA3: CALAMAR | BB3: URAMITA | BC3: LA PRIMAVERA
A4: Redes de Fibra Óptica | B4: FTTx (Fiber to the X) | C4: FTTP (Fiber to the Premises) | E4: Redes Inalámbricas | H4: Red Local Inalambrica | J4: FTTP (Fiber to the Premises) | M4: Radioenlace (Microondas) | R4: ANTIOQUIA | S4: 05 | T4: ABRIAQUÍ | U4: 05004 | V4: BOGOTÁ D.C. | W4: ABRIAQUÍ | X4: CAMPO DE LA CRUZ | Z4: ALTOS DEL ROSARIO | AA4: AQUITANIA | AB4: ANSERMA | AC4: BELÉN DE LOS ANDAQUÍES | AD4: ARGELIA | AE4: AGUSTÍN CODAZZI | AF4: BUENAVISTA | AG4: ANAPOIMA | AH4: ALTO BAUDÓ | AI4: AGRADO | AJ4: BARRANCAS | AK4: ARACATACA | AL4: BARRANCA DE UPÍA | AM4: ALDANA | AN4: ARBOLEDAS | AO4: CALARCÁ | AP4: BALBOA | AQ4: ALBANIA | AR4: CAIMITO | AS4: ALVARADO | AT4: ANDALUCÍA | AU4: CRAVO NORTE | AV4: CHÁMEZA | AW4: ORITO | AY4: LA CHORRERA | AZ4: SAN FELIPE | BA4: EL RETORNO | BB4: URRAO | BC4: SANTA ROSALÍA
A5: Redes de Fibra Óptica | B5: FTTx (Fiber to the X) | C5: FTTC (Fiber to the Cabinet) | E5: Redes de Cobre | J5: FTTC (Fiber to the Cabinet) | R5: ANTIOQUIA | S5: 05 | T5: ALEJANDRÍA | U5: 05021 | V5: BOLÍVAR | W5: ALEJANDRÍA | X5: CANDELARIA | Z5: ARENAL | AA5: ARCABUCO | AB5: ARANZAZU | AC5: CARTAGENA DEL CHAIRÁ | AD5: BALBOA | AE5: ASTREA | AF5: CANALETE | AG5: ANOLAIMA | AH5: ATRATO | AI5: AIPE | AJ5: DIBULLA | AK5: ARIGUANÍ | AL5: CABUYARO | AM5: ANCUYA | AN5: BOCHALEMA | AO5: CIRCASIA | AP5: BELÉN DE UMBRÍA | AQ5: ARATOCA | AR5: COLOSÓ | AS5: AMBALEMA | AT5: ANSERMANUEVO | AU5: FORTUL | AV5: HATO COROZAL | AW5: PUERTO ASÍS | AY5: LA PEDRERA | AZ5: PUERTO COLOMBIA | BA5: MIRAFLORES | BB5: VALDIVIA | BC5: CUMARIBO
A6: Redes de Fibra Óptica | B6: FTTx (Fiber to the X) | C6: FTTN (Fiber to the Node) | J6: FTTN (Fiber to the Node) | R6: ANTIOQUIA | S6: 05 | T6: AMAGÁ | U6: 05030 | V6: BOYACÁ | W6: AMAGÁ | X6: GALAPA | Z6: ARJONA | AA6: BELÉN | AB6: BELALCÁZAR | AC6: CURILLO | AD6: BOLÍVAR | AE6: BECERRIL | AF6: CERETÉ | AG6: ARBELÁEZ | AH6: BAGADÓ | AI6: ALGECIRAS | AJ6: DISTRACCIÓN | AK6: CERRO DE SAN ANTONIO | AL6: CASTILLA LA NUEVA | AM6: ARBOLEDA | AN6: BUCARASICA | AO6: CÓRDOBA | AP6: DOSQUEBRADAS | AQ6: BARBOSA | AR6: COROZAL | AS6: ANZOÁTEGUI | AT6: ARGELIA | AU6: PUERTO RONDÓN | AV6: LA SALINA | AW6: PUERTO CAICEDO | AY6: LA VICTORIA | AZ6: LA GUADALUPE | BB6: VALPARAÍSO
A7: Redes de Fibra Óptica | B7: FTTx (Fiber to the X) | C7: FTTA (Fiber to the Antenna) | J7: FTTA (Fiber to the Antenna) | R7: ANTIOQUIA | S7: 05 | T7: AMALFI | U7: 05031 | V7: CALDAS | W7: AMALFI | X7: JUAN DE ACOSTA | Z7: ARROYOHONDO | AA7: BERBEO | AB7: CHINCHINÁ | AC7: EL DONCELLO | AD7: BUENOS AIRES | AE7: BOSCONIA | AF7: CHIMÁ | AG7: BELTRÁN | AH7: BAHÍA SOLANO | AI7: ALTAMIRA | AJ7: EL MOLINO | AK7: CHIVOLO | AL7: CUBARRAL | AM7: BARBACOAS | AN7: CÁCOTA | AO7: FILANDIA | AP7: GUÁTICA | AQ7: BARICHARA | AR7: COVEÑAS | AS7: ARMERO | AT7: BOLÍVAR | AU7: SARAVENA | AV7: MANÍ | AW7: PUERTO GUZMÁN | AY7: MIRITÍ - PARANÁ | AZ7: CACAHUAL | BB7: VEGACHÍ
A8: Redes de Fibra Óptica | B8: Tecnologías de Transporte | C8: GPON / XG-PON | R8: ANTIOQUIA | S8: 05 | T8: ANDES | U8: 05034 | V8: CAQUETÁ | W8: ANDES | X8: LURUACO | Z8: BARRANCO DE LOBA | AA8: BETÉITIVA | AB8: FILADELFIA | AC8: EL PAUJÍL | AD8: CAJIBÍO | AE8: CHIMICHAGUA | AF8: CHINÚ | AG8: BITUIMA | AH8: BAJO BAUDÓ | AI8: BARAYA | AJ8: FONSECA | AK8: CIÉNAGA | AL8: CUMARAL | AM8: BELÉN | AN8: CÁCHIRA | AO8: GÉNOVA | AP8: LA CELIA | AQ8: BARRANCABERMEJA | AR8: CHALÁN | AS8: ATACO | AT8: BUENAVENTURA | AU8: TAME | AV8: MONTERREY | AW8: PUERTO LEGUÍZAMO | AY8: PUERTO ALEGRÍA | AZ8: PANA PANA
A9: Redes Híbridas | B9: Fibra_Coaxial | C9: HFC (Hybrid Fiber Coaxial) | R9: ANTIOQUIA | S9: 05 | T9: ANGELÓPOLIS | U9: 05036 | V9: CAUCA | W9: ANGELÓPOLIS | X9: MALAMBO | Z9: CALAMAR | AA9: BOAVITA | AB9: LA DORADA | AC9: LA MONTAÑITA | AD9: CALDONO | AE9: CHIRIGUANÁ | AF9: CIÉNAGA DE ORO | AG9: BOJACÁ | AH9: BOJAYÁ | AI9: CAMPOALEGRE | AJ9: HATONUEVO | AK9: CONCORDIA | AL9: EL CALVARIO | AM9: BUESACO | AN9: CHINÁCOTA | AO9: LA TEBAIDA | AP9: LA VIRGINIA | AQ9: BETULIA | AR9: EL ROBLE | AS9: CAJAMARCA | AT9: GUADALAJARA DE BUGA | AV9: NUNCHÍA | AW9: SIBUNDOY | AY9: PUERTO ARICA | AZ9: MORICHAL
A10: Redes Híbridas | B10: Fibra_Coaxial | C10: DOCSIS (3.0, 3.1, 4.0) | R10: ANTIOQUIA | S10: 05 | T10: ANGOSTURA | U10: 05038 | V10: CESAR | W10: ANGOSTURA | X10: MANATÍ | Z10: CANTAGALLO | AA10: BOYACÁ | AB10: LA MERCED | AC10: MILÁN | AD10: CALOTO | AE10: CURUMANÍ | AF10: COTORRA | AG10: CABRERA | AH10: EL CANTÓN DEL SAN PABLO | AI10: COLOMBIA | AJ10: LA JAGUA DEL PILAR | AK10: EL BANCO | AL10: EL CASTILLO | AM10: COLÓN | AN10: CHITAGÁ | AO10: MONTENEGRO | AP10: MARSELLA | AQ10: BOLÍVAR | AR10: GALERAS | AS10: CARMEN DE APICALÁ | AT10: BUGALAGRANDE | AV10: OROCUÉ | AW10: SAN FRANCISCO | AY10: PUERTO NARIÑO
A11: Redes Inalámbricas | B11: Acceso Fijo Inalámbrico (FWA) | C11: 5G FWA / 4G LTE | R11: ANTIOQUIA | S11: 05 | T11: ANORÍ | U11: 05040 | V11: CÓRDOBA | W11: ANORÍ | X11: PALMAR DE VARELA | Z11: CICUCO | AA11: BRICEÑO | AB11: MANZANARES | AC11: MORELIA | AD11: CORINTO | AE11: EL COPEY | AF11: LA APARTADA | AG11: CACHIPAY | AH11: CARMEN DEL DARIÉN | AI11: ELÍAS | AJ11: MAICAO | AK11: EL PIÑÓN | AL11: EL DORADO | AM11: CONSACÁ | AN11: CONVENCIÓN | AO11: PIJAO | AP11: MISTRATÓ | AQ11: CABRERA | AR11: GUARANDA | AS11: CASABIANCA | AT11: CAICEDONIA | AV11: PAZ DE ARIPORO | AW11: SAN MIGUEL | AY11: PUERTO SANTANDER
A12: Redes Inalámbricas | B12: Acceso Fijo Inalámbrico (FWA) | C12: WIMAX | R12: ANTIOQUIA | S12: 05 | T12: SANTA FÉ DE ANTIOQUIA | U12: 05042 | V12: CUNDINAMARCA | W12: SANTA FÉ DE ANTIOQUIA | X12: PIOJÓ | Z12: CÓRDOBA | AA12: BUENAVISTA | AB12: MARMATO | AC12: PUERTO RICO | AD12: EL TAMBO | AE12: EL PASO | AF12: LORICA | AG12: CAJICÁ | AH12: CÉRTEGUI | AI12: GARZÓN | AJ12: MANAURE | AK12: EL RETÉN | AL12: FUENTE DE ORO | AM12: CONTADERO | AN12: CUCUTILLA | AO12: QUIMBAYA | AP12: PUEBLO RICO | AQ12: CALIFORNIA | AR12: LA UNIÓN | AS12: CHAPARRAL | AT12: CALIMA | AV12: PORE | AW12: SANTIAGO | AY12: TARAPACÁ
A13: Redes Inalámbricas | B13: Acceso Fijo Inalámbrico (FWA) | C13: Radioenlace (Microondas) | R13: ANTIOQUIA | S13: 05 | T13: ANZÁ | U13: 05044 | V13: CHOCÓ | W13: ANZÁ | X13: POLONUEVO | Z13: CLEMENCIA | AA13: BUSBANZÁ | AB13: MARQUETALIA | AC13: SAN JOSÉ DEL FRAGUA | AD13: FLORENCIA | AE13: GAMARRA | AF13: LOS CÓRDOBAS | AG13: CAPARRAPÍ | AH13: CONDOTO | AI13: GIGANTE | AJ13: SAN JUAN DEL CESAR | AK13: FUNDACIÓN | AL13: GRANADA | AM13: CÓRDOBA | AN13: DURANIA | AO13: SALENTO | AP13: QUINCHÍA | AQ13: CAPITANEJO | AR13: LOS PALMITOS | AS13: COELLO | AT13: CANDELARIA | AV13: RECETOR | AW13: VALLE DEL GUAMUEZ
A14: Redes Inalámbricas | B14: Acceso Satelital | C14: GEO (Órbita Geoestacionaria) | R14: ANTIOQUIA | S14: 05 | T14: APARTADÓ | U14: 05045 | V14: HUILA | W14: APARTADÓ | X14: PONEDERA | Z14: EL CARMEN DE BOLÍVAR | AA14: CALDAS | AB14: MARULANDA | AC14: SAN VICENTE DEL CAGUÁN | AD14: GUACHENÉ | AE14: GONZÁLEZ | AF14: MOMIL | AG14: CÁQUEZA | AH14: EL CARMEN DE ATRATO | AI14: GUADALUPE | AJ14: URIBIA | AK14: GUAMAL | AL14: GUAMAL | AM14: CUASPUD CARLOSAMA | AN14: EL CARMEN | AP14: SANTA ROSA DE CABAL | AQ14: CARCASÍ | AR14: MAJAGUAL | AS14: COYAIMA | AT14: CARTAGO | AV14: SABANALARGA | AW14: VILLAGARZÓN
A15: Redes Inalámbricas | B15: Acceso Satelital | C15: LEO (Órbita Terrestre Baja) | R15: ANTIOQUIA | S15: 05 | T15: ARBOLETES | U15: 05051 | V15: LA GUAJIRA | W15: ARBOLETES | X15: PUERTO COLOMBIA | Z15: EL GUAMO | AA15: CAMPOHERMOSO | AB15: NEIRA | AC15: SOLANO | AD15: GUAPI | AE15: LA GLORIA | AF15: MONTELÍBANO | AG15: CARMEN DE CARUPA | AH15: EL LITORAL DEL SAN JUAN | AI15: HOBO | AJ15: URUMITA | AK15: NUEVA GRANADA | AL15: MAPIRIPÁN | AM15: CUMBAL | AN15: EL TARRA | AP15: SANTUARIO | AQ15: CEPITÁ | AR15: MORROA | AS15: CUNDAY | AT15: DAGUA | AV15: SÁCAMA
A16: Redes Inalámbricas | B16: Red Local Inalambrica | C16: WiFi (Gestionado) | R16: ANTIOQUIA | S16: 05 | T16: ARGELIA | U16: 05055 | V16: MAGDALENA | W16: ARGELIA | X16: REPELÓN | Z16: EL PEÑÓN | AA16: CERINZA | AB16: NORCASIA | AC16: SOLITA | AD16: INZÁ | AE16: LA JAGUA DE IBIRICO | AF16: MOÑITOS | AG16: CHAGUANÍ | AH16: ISTMINA | AI16: ÍQUIRA | AJ16: VILLANUEVA | AK16: PEDRAZA | AL16: MESETAS | AM16: CUMBITARA | AN16: EL ZULIA | AQ16: CERRITO | AR16: OVEJAS | AS16: DOLORES | AT16: EL ÁGUILA | AV16: SAN LUIS DE PALENQUE
A17: Redes de Cobre | B17: Linea de Abonado Digital | C17: xDSL | R17: ANTIOQUIA | S17: 05 | T17: ARMENIA | U17: 05059 | V17: META | W17: ARMENIA | X17: SABANAGRANDE | Z17: HATILLO DE LOBA | AA17: CHINAVITA | AB17: PÁCORA | AC17: VALPARAÍSO | AD17: JAMBALÓ | AE17: MANAURE BALCÓN DEL CESAR | AF17: PLANETA RICA | AG17: CHÍA | AH17: JURADÓ | AI17: ISNOS | AK17: PIJIÑO DEL CARMEN | AL17: LA MACARENA | AM17: CHACHAGÜÍ | AN17: GRAMALOTE | AQ17: CHARALÁ | AR17: PALMITO | AS17: ESPINAL | AT17: EL CAIRO | AV17: TÁMARA
R18: ANTIOQUIA | S18: 05 | T18: BARBOSA | U18: 05079 | V18: NARIÑO | W18: BARBOSA | X18: SABANALARGA | Z18: MAGANGUÉ | AA18: CHIQUINQUIRÁ | AB18: PALESTINA | AD18: LA SIERRA | AE18: PAILITAS | AF18: PUEBLO NUEVO | AG18: CHIPAQUE | AH18: LLORÓ | AI18: LA ARGENTINA | AK18: PIVIJAY | AL18: URIBE | AM18: EL CHARCO | AN18: HACARÍ | AQ18: CHARTA | AR18: SAMPUÉS | AS18: FALAN | AT18: EL CERRITO | AV18: TAURAMENA
R19: ANTIOQUIA | S19: 05 | T19: BELMIRA | U19: 05086 | V19: NORTE DE SANTANDER | W19: BELMIRA | X19: SANTA LUCÍA | Z19: MAHATES | AA19: CHISCAS | AB19: PENSILVANIA | AD19: LA VEGA | AE19: PELAYA | AF19: PUERTO ESCONDIDO | AG19: CHOACHÍ | AH19: MEDIO ATRATO | AI19: LA PLATA | AK19: PLATO | AL19: LEJANÍAS | AM19: EL PEÑOL | AN19: HERRÁN | AQ19: CHIMA | AR19: SAN BENITO ABAD | AS19: FLANDES | AT19: EL DOVIO | AV19: TRINIDAD
R20: ANTIOQUIA | S20: 05 | T20: BELLO | U20: 05088 | V20: QUINDÍO | W20: BELLO | X20: SANTO TOMÁS | Z20: MARGARITA | AA20: CHITA | AB20: RIOSUCIO | AD20: LÓPEZ DE MICAY | AE20: PUEBLO BELLO | AF20: PUERTO LIBERTADOR | AG20: CHOCONTÁ | AH20: MEDIO BAUDÓ | AI20: NÁTAGA | AK20: PUEBLOVIEJO | AL20: PUERTO CONCORDIA | AM20: EL ROSARIO | AN20: LABATECA | AQ20: CHIPATÁ | AR20: SAN JUAN DE BETULIA | AS20: FRESNO | AT20: FLORIDA | AV20: VILLANUEVA
R21: ANTIOQUIA | S21: 05 | T21: BETANIA | U21: 05091 | V21: RISARALDA | W21: BETANIA | X21: SOLEDAD | Z21: MARÍA LA BAJA | AA21: CHITARAQUE | AB21: RISARALDA | AD21: MERCADERES | AE21: RÍO DE ORO | AF21: PURÍSIMA DE LA CONCEPCIÓN | AG21: COGUA | AH21: MEDIO SAN JUAN | AI21: OPORAPA | AK21: REMOLINO | AL21: PUERTO GAITÁN | AM21: EL TABLÓN DE GÓMEZ | AN21: LA ESPERANZA | AQ21: CIMITARRA | AR21: SAN MARCOS | AS21: GUAMO | AT21: GINEBRA
R22: ANTIOQUIA | S22: 05 | T22: BETULIA | U22: 05093 | V22: SANTANDER | W22: BETULIA | X22: SUAN | Z22: MONTECRISTO | AA22: CHIVATÁ | AB22: SALAMINA | AD22: MIRANDA | AE22: LA PAZ | AF22: SAHAGÚN | AG22: COTA | AH22: NÓVITA | AI22: PAICOL | AK22: SABANAS DE SAN ÁNGEL | AL22: PUERTO LÓPEZ | AM22: EL TAMBO | AN22: LA PLAYA | AQ22: CONCEPCIÓN | AR22: SAN ONOFRE | AS22: HERVEO | AT22: GUACARÍ
R23: ANTIOQUIA | S23: 05 | T23: CIUDAD BOLÍVAR | U23: 05101 | V23: SUCRE | W23: CIUDAD BOLÍVAR | X23: TUBARÁ | Z23: SANTA CRUZ DE MOMPOX | AA23: CIÉNEGA | AB23: SAMANÁ | AD23: MORALES | AE23: SAN ALBERTO | AF23: SAN ANDRÉS DE SOTAVENTO | AG23: CUCUNUBÁ | AH23: NUEVO BELÉN DE BAJIRÁ | AI23: PALERMO | AK23: SALAMINA | AL23: PUERTO LLERAS | AM23: FUNES | AN23: LOS PATIOS | AQ23: CONFINES | AR23: SAN PEDRO | AS23: HONDA | AT23: JAMUNDÍ
R24: ANTIOQUIA | S24: 05 | T24: BRICEÑO | U24: 05107 | V24: TOLIMA | W24: BRICEÑO | X24: USIACURÍ | Z24: MORALES | AA24: CÓMBITA | AB24: SAN JOSÉ | AD24: PADILLA | AE24: SAN DIEGO | AF24: SAN ANTERO | AG24: EL COLEGIO | AH24: NUQUÍ | AI24: PALESTINA | AK24: SAN SEBASTIÁN DE BUENAVISTA | AL24: PUERTO RICO | AM24: GUACHUCAL | AN24: LOURDES | AQ24: CONTRATACIÓN | AR24: SAN LUIS DE SINCÉ | AS24: ICONONZO | AT24: LA CUMBRE
R25: ANTIOQUIA | S25: 05 | T25: BURITICÁ | U25: 05113 | V25: VALLE DEL CAUCA | W25: BURITICÁ | Z25: NOROSÍ | AA25: COPER | AB25: SUPÍA | AD25: PÁEZ | AE25: SAN MARTÍN | AF25: SAN BERNARDO DEL VIENTO | AG25: EL PEÑÓN | AH25: RÍO IRÓ | AI25: PITAL | AK25: SAN ZENÓN | AL25: RESTREPO | AM25: GUAITARILLA | AN25: MUTISCUA | AQ25: COROMORO | AR25: SUCRE | AS25: LÉRIDA | AT25: LA UNIÓN
R26: ANTIOQUIA | S26: 05 | T26: CÁCERES | U26: 05120 | V26: ARAUCA | W26: CÁCERES | Z26: PINILLOS | AA26: CORRALES | AB26: VICTORIA | AD26: PATÍA | AE26: TAMALAMEQUE | AF26: SAN CARLOS | AG26: EL ROSAL | AH26: RÍO QUITO | AI26: PITALITO | AK26: SANTA ANA | AL26: SAN CARLOS DE GUAROA | AM26: GUALMATÁN | AN26: OCAÑA | AQ26: CURITÍ | AR26: SANTIAGO DE TOLÚ | AS26: LÍBANO | AT26: LA VICTORIA
R27: ANTIOQUIA | S27: 05 | T27: CAICEDO | U27: 05125 | V27: CASANARE | W27: CAICEDO | Z27: REGIDOR | AA27: COVARACHÍA | AB27: VILLAMARÍA | AD27: PIAMONTE | AF27: SAN JOSÉ DE URÉ | AG27: FACATATIVÁ | AH27: RIOSUCIO | AI27: RIVERA | AK27: SANTA BÁRBARA DE PINTO | AL27: SAN JUAN DE ARAMA | AM27: ILES | AN27: PAMPLONA | AQ27: EL CARMEN DE CHUCURÍ | AR27: SAN JOSÉ DE TOLUVIEJO | AS27: SAN SEBASTIÁN DE MARIQUITA | AT27: OBANDO
R28: ANTIOQUIA | S28: 05 | T28: CALDAS | U28: 05129 | V28: PUTUMAYO | W28: CALDAS | Z28: RÍO VIEJO | AA28: CUBARÁ | AB28: VITERBO | AD28: PIENDAMÓ - TUNÍA | AF28: SAN PELAYO | AG28: FÓMEQUE | AH28: SAN JOSÉ DEL PALMAR | AI28: SALADOBLANCO | AK28: SITIONUEVO | AL28: SAN JUANITO | AM28: IMUÉS | AN28: PAMPLONITA | AQ28: EL GUACAMAYO | AS28: MELGAR | AT28: PALMIRA
R29: ANTIOQUIA | S29: 05 | T29: CAMPAMENTO | U29: 05134 | V29: ARCHIPIÉLAGO DE SAN ANDRÉS PROVIDENCIA Y SANTA CATALINA | W29: CAMPAMENTO | Z29: SAN CRISTÓBAL | AA29: CUCAITA | AD29: PUERTO TEJADA | AF29: TIERRALTA | AG29: FOSCA | AH29: SIPÍ | AI29: SAN AGUSTÍN | AK29: TENERIFE | AL29: SAN MARTÍN | AM29: IPIALES | AN29: PUERTO SANTANDER | AQ29: EL PEÑÓN | AS29: MURILLO | AT29: PRADERA
R30: ANTIOQUIA | S30: 05 | T30: CAÑASGORDAS | U30: 05138 | V30: AMAZONAS | W30: CAÑASGORDAS | Z30: SAN ESTANISLAO | AA30: CUÍTIVA | AD30: PURACÉ | AF30: TUCHÍN | AG30: FUNZA | AH30: TADÓ | AI30: SANTA MARÍA | AK30: ZAPAYÁN | AL30: VISTAHERMOSA | AM30: LA CRUZ | AN30: RAGONVALIA | AQ30: EL PLAYÓN | AS30: NATAGAIMA | AT30: RESTREPO
R31: ANTIOQUIA | S31: 05 | T31: CARACOLÍ | U31: 05142 | V31: GUAINÍA | W31: CARACOLÍ | Z31: SAN FERNANDO | AA31: CHÍQUIZA | AD31: ROSAS | AF31: VALENCIA | AG31: FÚQUENE | AH31: UNGUÍA | AI31: SUAZA | AK31: ZONA BANANERA | AM31: LA FLORIDA | AN31: SALAZAR | AQ31: ENCINO | AS31: ORTEGA | AT31: RIOFRÍO
R32: ANTIOQUIA | S32: 05 | T32: CARAMANTA | U32: 05145 | V32: GUAVIARE | W32: CARAMANTA | Z32: SAN JACINTO | AA32: CHIVOR | AD32: SAN SEBASTIÁN | AG32: FUSAGASUGÁ | AH32: UNIÓN PANAMERICANA | AI32: TARQUI | AM32: LA LLANADA | AN32: SAN CALIXTO | AQ32: ENCISO | AS32: PALOCABILDO | AT32: ROLDANILLO
R33: ANTIOQUIA | S33: 05 | T33: CAREPA | U33: 05147 | V33: VAUPÉS | W33: CAREPA | Z33: SAN JACINTO DEL CAUCA | AA33: DUITAMA | AD33: SANTANDER DE QUILICHAO | AG33: GACHALÁ | AI33: TESALIA | AM33: LA TOLA | AN33: SAN CAYETANO | AQ33: FLORIÁN | AS33: PIEDRAS | AT33: SAN PEDRO
R34: ANTIOQUIA | S34: 05 | T34: EL CARMEN DE VIBORAL | U34: 05148 | V34: VICHADA | W34: EL CARMEN DE VIBORAL | Z34: SAN JUAN NEPOMUCENO | AA34: EL COCUY | AD34: SANTA ROSA | AG34: GACHANCIPÁ | AI34: TELLO | AM34: LA UNIÓN | AN34: SANTIAGO | AQ34: FLORIDABLANCA | AS34: PLANADAS | AT34: SEVILLA
R35: ANTIOQUIA | S35: 05 | T35: CAROLINA | U35: 05150 | W35: CAROLINA | Z35: SAN MARTÍN DE LOBA | AA35: EL ESPINO | AD35: SILVIA | AG35: GACHETÁ | AI35: TERUEL | AM35: LEIVA | AN35: SARDINATA | AQ35: GALÁN | AS35: PRADO | AT35: TORO
R36: ANTIOQUIA | S36: 05 | T36: CAUCASIA | U36: 05154 | W36: CAUCASIA | Z36: SAN PABLO | AA36: FIRAVITOBA | AD36: SOTARÁ - PAISPAMBA | AG36: GAMA | AI36: TIMANÁ | AM36: LINARES | AN36: SILOS | AQ36: GÁMBITA | AS36: PURIFICACIÓN | AT36: TRUJILLO
R37: ANTIOQUIA | S37: 05 | T37: CHIGORODÓ | U37: 05172 | W37: CHIGORODÓ | Z37: SANTA CATALINA | AA37: FLORESTA | AD37: SUÁREZ | AG37: GIRARDOT | AI37: VILLAVIEJA | AM37: LOS ANDES | AN37: TEORAMA | AQ37: GIRÓN | AS37: RIOBLANCO | AT37: TULUÁ
R38: ANTIOQUIA | S38: 05 | T38: CISNEROS | U38: 05190 | W38: CISNEROS | Z38: SANTA ROSA | AA38: GACHANTIVÁ | AD38: SUCRE | AG38: GRANADA | AI38: YAGUARÁ | AM38: MAGÜÍ | AN38: TIBÚ | AQ38: GUACA | AS38: RONCESVALLES | AT38: ULLOA
R39: ANTIOQUIA | S39: 05 | T39: COCORNÁ | U39: 05197 | W39: COCORNÁ | Z39: SANTA ROSA DEL SUR | AA39: GÁMEZA | AD39: TIMBÍO | AG39: GUACHETÁ | AM39: MALLAMA | AN39: TOLEDO | AQ39: GUADALUPE | AS39: ROVIRA | AT39: VERSALLES
R40: ANTIOQUIA | S40: 05 | T40: CONCEPCIÓN | U40: 05206 | W40: CONCEPCIÓN | Z40: SIMITÍ | AA40: GARAGOA | AD40: TIMBIQUÍ | AG40: GUADUAS | AM40: MOSQUERA | AN40: VILLA CARO | AQ40: GUAPOTÁ | AS40: SALDAÑA | AT40: VIJES
R41: ANTIOQUIA | S41: 05 | T41: CONCORDIA | U41: 05209 | W41: CONCORDIA | Z41: SOPLAVIENTO | AA41: GUACAMAYAS | AD41: TORIBÍO | AG41: GUASCA | AM41: NARIÑO | AN41: VILLA DEL ROSARIO | AQ41: GUAVATÁ | AS41: SAN ANTONIO | AT41: YOTOCO
R42: ANTIOQUIA | S42: 05 | T42: COPACABANA | U42: 05212 | W42: COPACABANA | Z42: TALAIGUA NUEVO | AA42: GUATEQUE | AD42: TOTORÓ | AG42: GUATAQUÍ | AM42: OLAYA HERRERA | AQ42: GÜEPSA | AS42: SAN LUIS | AT42: YUMBO
R43: ANTIOQUIA | S43: 05 | T43: DABEIBA | U43: 05234 | W43: DABEIBA | Z43: TIQUISIO | AA43: GUAYATÁ | AD43: VILLA RICA | AG43: GUATAVITA | AM43: OSPINA | AQ43: HATO | AS43: SANTA ISABEL | AT43: ZARZAL
R44: ANTIOQUIA | S44: 05 | T44: DONMATÍAS | U44: 05237 | W44: DONMATÍAS | Z44: TURBACO | AA44: GÜICÁN DE LA SIERRA | AG44: GUAYABAL DE SÍQUIMA | AM44: FRANCISCO PIZARRO | AQ44: JESÚS MARÍA | AS44: SUÁREZ
R45: ANTIOQUIA | S45: 05 | T45: EBÉJICO | U45: 05240 | W45: EBÉJICO | Z45: TURBANÁ | AA45: IZA | AG45: GUAYABETAL | AM45: POLICARPA | AQ45: JORDÁN | AS45: VALLE DE SAN JUAN
R46: ANTIOQUIA | S46: 05 | T46: EL BAGRE | U46: 05250 | W46: EL BAGRE | Z46: VILLANUEVA | AA46: JENESANO | AG46: GUTIÉRREZ | AM46: POTOSÍ | AQ46: LA BELLEZA | AS46: VENADILLO
R47: ANTIOQUIA | S47: 05 | T47: ENTRERRÍOS | U47: 05264 | W47: ENTRERRÍOS | Z47: ZAMBRANO | AA47: JERICÓ | AG47: JERUSALÉN | AM47: PROVIDENCIA | AQ47: LANDÁZURI | AS47: VILLAHERMOSA
R48: ANTIOQUIA | S48: 05 | T48: ENVIGADO | U48: 05266 | W48: ENVIGADO | AA48: LABRANZAGRANDE | AG48: JUNÍN | AM48: PUERRES | AQ48: LA PAZ | AS48: VILLARRICA
R49: ANTIOQUIA | S49: 05 | T49: FREDONIA | U49: 05282 | W49: FREDONIA | AA49: LA CAPILLA | AG49: LA CALERA | AM49: PUPIALES | AQ49: LEBRIJA
R50: ANTIOQUIA | S50: 05 | T50: FRONTINO | U50: 05284 | W50: FRONTINO | AA50: LA VICTORIA | AG50: LA MESA | AM50: RICAURTE | AQ50: LOS SANTOS
R51: ANTIOQUIA | S51: 05 | T51: GIRALDO | U51: 05306 | W51: GIRALDO | AA51: LA UVITA | AG51: LA PALMA | AM51: ROBERTO PAYÁN | AQ51: MACARAVITA
R52: ANTIOQUIA | S52: 05 | T52: GIRARDOTA | U52: 05308 | W52: GIRARDOTA | AA52: VILLA DE LEYVA | AG52: LA PEÑA | AM52: SAMANIEGO | AQ52: MÁLAGA
R53: ANTIOQUIA | S53: 05 | T53: GÓMEZ PLATA | U53: 05310 | W53: GÓMEZ PLATA | AA53: MACANAL | AG53: LA VEGA | AM53: SANDONÁ | AQ53: MATANZA
R54: ANTIOQUIA | S54: 05 | T54: GRANADA | U54: 05313 | W54: GRANADA | AA54: MARIPÍ | AG54: LENGUAZAQUE | AM54: SAN BERNARDO | AQ54: MOGOTES
R55: ANTIOQUIA | S55: 05 | T55: GUADALUPE | U55: 05315 | W55: GUADALUPE | AA55: MIRAFLORES | AG55: MACHETÁ | AM55: SAN LORENZO | AQ55: MOLAGAVITA
R56: ANTIOQUIA | S56: 05 | T56: GUARNE | U56: 05318 | W56: GUARNE | AA56: MONGUA | AG56: MADRID | AM56: SAN PABLO | AQ56: OCAMONTE
R57: ANTIOQUIA | S57: 05 | T57: GUATAPÉ | U57: 05321 | W57: GUATAPÉ | AA57: MONGUÍ | AG57: MANTA | AM57: SAN PEDRO DE CARTAGO | AQ57: OIBA
R58: ANTIOQUIA | S58: 05 | T58: HELICONIA | U58: 05347 | W58: HELICONIA | AA58: MONIQUIRÁ | AG58: MEDINA | AM58: SANTA BÁRBARA | AQ58: ONZAGA
R59: ANTIOQUIA | S59: 05 | T59: HISPANIA | U59: 05353 | W59: HISPANIA | AA59: MOTAVITA | AG59: MOSQUERA | AM59: SANTACRUZ | AQ59: PALMAR
R60: ANTIOQUIA | S60: 05 | T60: ITAGÜÍ | U60: 05360 | W60: ITAGÜÍ | AA60: MUZO | AG60: NARIÑO | AM60: SAPUYES | AQ60: PALMAS DEL SOCORRO
... R65: ANTIOQUIA | S65: 05 | T65: LA ESTRELLA | U65: 05380 | W65: LA ESTRELLA | AA65: PACHAVITA | AG65: VENECIA | AM65: YACUANQUER | AQ65: PUERTO PARRA
R66: ANTIOQUIA | S66: 05 | T66: LA PINTADA | U66: 05390 | W66: LA PINTADA | AA66: PÁEZ | AG66: PACHO | AQ66: PUERTO WILCHES
R67: ANTIOQUIA | S67: 05 | T67: LA UNIÓN | U67: 05400 | W67: LA UNIÓN | AA67: PAIPA | AG67: PAIME | AQ67: RIONEGRO
R68: ANTIOQUIA | S68: 05 | T68: LIBORINA | U68: 05411 | W68: LIBORINA | AA68: PAJARITO | AG68: PANDI | AQ68: SABANA DE TORRES
R69: ANTIOQUIA | S69: 05 | T69: MACEO | U69: 05425 | W69: MACEO | AA69: PANQUEBA | AG69: PARATEBUENO | AQ69: SAN ANDRÉS
R70: ANTIOQUIA | S70: 05 | T70: MARINILLA | U70: 05440 | W70: MARINILLA | AA70: PAUNA | AG70: PASCA | AQ70: SAN BENITO
R71: ANTIOQUIA | S71: 05 | T71: MONTEBELLO | U71: 05467 | W71: MONTEBELLO | AA71: PAYA | AG71: PUERTO SALGAR | AQ71: SAN GIL
R72: ANTIOQUIA | S72: 05 | T72: MURINDÓ | U72: 05475 | W72: MURINDÓ | AA72: PAZ DE RÍO | AG72: PULÍ | AQ72: SAN JOAQUÍN
R73: ANTIOQUIA | S73: 05 | T73: MUTATÁ | U73: 05480 | W73: MUTATÁ | AA73: PESCA | AG73: QUEBRADANEGRA | AQ73: SAN JOSÉ DE MIRANDA
R74: ANTIOQUIA | S74: 05 | T74: NARIÑO | U74: 05483 | W74: NARIÑO | AA74: PISBA | AG74: QUETAME | AQ74: SAN MIGUEL
R75: ANTIOQUIA | S75: 05 | T75: NECOCLÍ | U75: 05490 | W75: NECOCLÍ | AA75: PUERTO BOYACÁ | AG75: QUIPILE | AQ75: SAN VICENTE DE CHUCURÍ
R76: ANTIOQUIA | S76: 05 | T76: NECHÍ | U76: 05495 | W76: NECHÍ | AA76: QUÍPAMA | AG76: APULO | AQ76: SANTA BÁRBARA
R77: ANTIOQUIA | S77: 05 | T77: OLAYA | U77: 05501 | W77: OLAYA | AA77: RAMIRIQUÍ | AG77: RICAURTE | AQ77: SANTA HELENA DEL OPÓN
... R88: ANTIOQUIA | S88: 05 | T88: SABANETA | U88: 05631 | W88: SABANETA | AA88: SAN PABLO DE BORBUR | AG88: SOACHA | AQ88: ZAPATOCA
R89: ANTIOQUIA | S89: 05 | T89: SALGAR | U89: 05642 | W89: SALGAR | AA89: SANTANA | AG89: SOPÓ
R90: ANTIOQUIA | S90: 05 | T90: SAN ANDRÉS DE CUERQUÍA | U90: 05647 | W90: SAN ANDRÉS DE CUERQUÍA | AA90: SANTA MARÍA | AG90: SUBACHOQUE
R91: ANTIOQUIA | S91: 05 | T91: SAN CARLOS | U91: 05649 | W91: SAN CARLOS | AA91: SANTA ROSA DE VITERBO | AG91: SUESCA
R92: ANTIOQUIA | S92: 05 | T92: SAN FRANCISCO | U92: 05652 | W92: SAN FRANCISCO | AA92: SANTA SOFÍA | AG92: SUPATÁ
R93: ANTIOQUIA | S93: 05 | T93: SAN JERÓNIMO | U93: 05656 | W93: SAN JERÓNIMO | AA93: SATIVANORTE | AG93: SUSA
R94: ANTIOQUIA | S94: 05 | T94: SAN JOSÉ DE LA MONTAÑA | U94: 05658 | W94: SAN JOSÉ DE LA MONTAÑA | AA94: SATIVASUR | AG94: SUTATAUSA
R95: ANTIOQUIA | S95: 05 | T95: SAN JUAN DE URABÁ | U95: 05659 | W95: SAN JUAN DE URABÁ | AA95: SIACHOQUE | AG95: TABIO
R96: ANTIOQUIA | S96: 05 | T96: SAN LUIS | U96: 05660 | W96: SAN LUIS | AA96: SOATÁ | AG96: TAUSA
R97: ANTIOQUIA | S97: 05 | T97: SAN PEDRO DE LOS MILAGROS | U97: 05664 | W97: SAN PEDRO DE LOS MILAGROS | AA97: SOCOTÁ | AG97: TENA
R98: ANTIOQUIA | S98: 05 | T98: SAN PEDRO DE URABÁ | U98: 05665 | W98: SAN PEDRO DE URABÁ | AA98: SOCHA | AG98: TENJO
R99: ANTIOQUIA | S99: 05 | T99: SAN RAFAEL | U99: 05667 | W99: SAN RAFAEL | AA99: SOGAMOSO | AG99: TIBACUY
R100: ANTIOQUIA | S100: 05 | T100: SAN ROQUE | U100: 05670 | W100: SAN ROQUE | AA100: SOMONDOCO | AG100: TIBIRITA
... R117: ANTIOQUIA | S117: 05 | T117: VALDIVIA | U117: 05854 | W117: VALDIVIA | AA117: TUNUNGUÁ | AG117: ZIPAQUIRÁ
R118: ANTIOQUIA | S118: 05 | T118: VALPARAÍSO | U118: 05856 | W118: VALPARAÍSO | AA118: TURMEQUÉ
R119: ANTIOQUIA | S119: 05 | T119: VEGACHÍ | U119: 05858 | W119: VEGACHÍ | AA119: TUTA
R120: ANTIOQUIA | S120: 05 | T120: VENECIA | U120: 05861 | W120: VENECIA | AA120: TUTAZÁ
R121: ANTIOQUIA | S121: 05 | T121: VIGÍA DEL FUERTE | U121: 05873 | W121: VIGÍA DEL FUERTE | AA121: ÚMBITA
R122: ANTIOQUIA | S122: 05 | T122: YALÍ | U122: 05885 | W122: YALÍ | AA122: VENTAQUEMADA
R123: ANTIOQUIA | S123: 05 | T123: YARUMAL | U123: 05887 | W123: YARUMAL | AA123: VIRACACHÁ
R124: ANTIOQUIA | S124: 05 | T124: YOLOMBÓ | U124: 05890 | W124: YOLOMBÓ | AA124: ZETAQUIRA
R125: ANTIOQUIA | S125: 05 | T125: YONDÓ | U125: 05893 | W125: YONDÓ
R126: ANTIOQUIA | S126: 05 | T126: ZARAGOZA | U126: 05895 | W126: ZARAGOZA
R127: ATLÁNTICO | S127: 08 | T127: BARRANQUILLA | U127: 08001
R128: ATLÁNTICO | S128: 08 | T128: BARANOA | U128: 08078
R129: ATLÁNTICO | S129: 08 | T129: CAMPO DE LA CRUZ | U129: 08137
R130: ATLÁNTICO | S130: 08 | T130: CANDELARIA | U130: 08141
...
